BEGIN:VCALENDAR
VERSION:2.0
PRODID:-//starlaarts.com - ECPv5.16.3.1//NONSGML v1.0//EN
CALSCALE:GREGORIAN
METHOD:PUBLISH
X-WR-CALNAME:starlaarts.com
X-ORIGINAL-URL:https://starlaarts.com
X-WR-CALDESC:Events for starlaarts.com
REFRESH-INTERVAL;VALUE=DURATION:PT1H
X-Robots-Tag:noindex
X-PUBLISHED-TTL:PT1H
BEGIN:VTIMEZONE
TZID:Australia/Adelaide
BEGIN:STANDARD
TZOFFSETFROM:+1030
TZOFFSETTO:+0930
TZNAME:ACST
DTSTART:20220402T163000
END:STANDARD
BEGIN:DAYLIGHT
TZOFFSETFROM:+0930
TZOFFSETTO:+1030
TZNAME:ACDT
DTSTART:20221001T163000
END:DAYLIGHT
END:VTIMEZONE
BEGIN:VEVENT
DTSTART;VALUE=DATE:20220514
DTEND;VALUE=DATE:20220515
DTSTAMP:20260421T023852
CREATED:20220114T035421Z
LAST-MODIFIED:20220121T223038Z
UID:3679-1652486400-1652572799@starlaarts.com
SUMMARY:Book Release: Winter's Thrall (Winter's Magic #2.5)
DESCRIPTION:Winter’s Thrall (Winter’s Magic #2.5) goes live. eBooks and paperbacks available from leading booksellers. \nThere are dark places in the world where the lines between lesser evils become too murky to distinguish. \nBrendan Winters\, enchanter mage\, playboy\, and consummate maker of poor life choices\, has outdone himself once again. \nIn a moment of weakness\, Brendan struck a deal that turned his life upside down. The filth he first witnessed in Bridey’s den of sin was just the tip of the iceberg. As her new favourite\, Brendan is thrust into a world of debauchery where he learns there is no limit to his mistress’ depravity. So\, when the opportunity to undermine her authority presents itself\, he jumps in headfirst. \nSent to investigate a Cult of dark mages with their roots in Ancient Egypt\, Brendan embarks on a collision course with organised crime\, a God\, and his own magical doppelganger. Yet\, none of this cloak and daggers business blindsides him more than the companion he finds in the very house of his captor. \nWhat lengths will Brendan go to for a chance to reclaim his freedom? \n  \nRead more…
URL:https://starlaarts.com/index.php/event/book-release-winters-thrall-winters-magic-2-5/
CATEGORIES:Book Release
ATTACH;FMTTYPE=image/jpeg:https://starlaarts.com/wp-content/uploads/2022/01/Kindle-Cover-Book-2.5-low-res-scaled.jpg
END:VEVENT
END:VCALENDAR